BEGIN:VCALENDAR
VERSION:2.0
PRODID:-//NexBioHealth-Shaping Futures - ECPv6.15.20//NONSGML v1.0//EN
CALSCALE:GREGORIAN
METHOD:PUBLISH
X-WR-CALNAME:NexBioHealth-Shaping Futures
X-ORIGINAL-URL:https://nexbiohealth.org
X-WR-CALDESC:Events for NexBioHealth-Shaping Futures
REFRESH-INTERVAL;VALUE=DURATION:PT1H
X-Robots-Tag:noindex
X-PUBLISHED-TTL:PT1H
BEGIN:VTIMEZONE
TZID:America/New_York
BEGIN:DAYLIGHT
TZOFFSETFROM:-0500
TZOFFSETTO:-0400
TZNAME:EDT
DTSTART:20240310T070000
END:DAYLIGHT
BEGIN:STANDARD
TZOFFSETFROM:-0400
TZOFFSETTO:-0500
TZNAME:EST
DTSTART:20241103T060000
END:STANDARD
BEGIN:DAYLIGHT
TZOFFSETFROM:-0500
TZOFFSETTO:-0400
TZNAME:EDT
DTSTART:20250309T070000
END:DAYLIGHT
BEGIN:STANDARD
TZOFFSETFROM:-0400
TZOFFSETTO:-0500
TZNAME:EST
DTSTART:20251102T060000
END:STANDARD
BEGIN:DAYLIGHT
TZOFFSETFROM:-0500
TZOFFSETTO:-0400
TZNAME:EDT
DTSTART:20260308T070000
END:DAYLIGHT
BEGIN:STANDARD
TZOFFSETFROM:-0400
TZOFFSETTO:-0500
TZNAME:EST
DTSTART:20261101T060000
END:STANDARD
END:VTIMEZONE
BEGIN:VEVENT
DTSTART;VALUE=DATE:20251106
DTEND;VALUE=DATE:20251109
DTSTAMP:20260419T172513
CREATED:20251102T132915Z
LAST-MODIFIED:20251102T132915Z
UID:8974-1762387200-1762646399@nexbiohealth.org
SUMMARY:Global Missions Health Conference (GMHC 2025)
DESCRIPTION:Focus: Bringing together healthcare professionals\, students\, and organizations passionate about global health and medical missions.
URL:https://nexbiohealth.org/event/global-missions-health-conference-gmhc-2025/
LOCATION:Louisville\, Louisville\, KY\, United States
END:VEVENT
BEGIN:VEVENT
DTSTART;VALUE=DATE:20251107
DTEND;VALUE=DATE:20251112
DTSTAMP:20260419T172513
CREATED:20251102T132915Z
LAST-MODIFIED:20251102T132915Z
UID:8977-1762473600-1762905599@nexbiohealth.org
SUMMARY:AASLD The Liver Meeting 2025
DESCRIPTION:Focus: Hosted by the American Association for the Study of Liver Diseases (AASLD)\, this premier hepatology conference highlights advances in liver research\, clinical care\, and global health collaboration.
URL:https://nexbiohealth.org/event/aasld-the-liver-meeting-2025/
LOCATION:Washington D.C.\, Washington\, DC\, United States
END:VEVENT
BEGIN:VEVENT
DTSTART;VALUE=DATE:20251108
DTEND;VALUE=DATE:20251111
DTSTAMP:20260419T172513
CREATED:20250801T095844Z
LAST-MODIFIED:20251102T132915Z
UID:8775-1762560000-1762819199@nexbiohealth.org
SUMMARY:American Heart Association (AHA) Scientific Sessions
DESCRIPTION:Cardiovascularscience\,clinicalcare\,andemerginghealthresearch.
URL:https://nexbiohealth.org/event/american-heart-association-aha-scientific-sessions/
LOCATION:Dallas\, Dallas\, TX\, United States
END:VEVENT
END:VCALENDAR