BEGIN:VCALENDAR
VERSION:2.0
PRODID:-//NexBioHealth-Shaping Futures - ECPv6.15.20//NONSGML v1.0//EN
CALSCALE:GREGORIAN
METHOD:PUBLISH
X-WR-CALNAME:NexBioHealth-Shaping Futures
X-ORIGINAL-URL:https://nexbiohealth.org
X-WR-CALDESC:Events for NexBioHealth-Shaping Futures
REFRESH-INTERVAL;VALUE=DURATION:PT1H
X-Robots-Tag:noindex
X-PUBLISHED-TTL:PT1H
BEGIN:VTIMEZONE
TZID:America/New_York
BEGIN:DAYLIGHT
TZOFFSETFROM:-0500
TZOFFSETTO:-0400
TZNAME:EDT
DTSTART:20240310T070000
END:DAYLIGHT
BEGIN:STANDARD
TZOFFSETFROM:-0400
TZOFFSETTO:-0500
TZNAME:EST
DTSTART:20241103T060000
END:STANDARD
BEGIN:DAYLIGHT
TZOFFSETFROM:-0500
TZOFFSETTO:-0400
TZNAME:EDT
DTSTART:20250309T070000
END:DAYLIGHT
BEGIN:STANDARD
TZOFFSETFROM:-0400
TZOFFSETTO:-0500
TZNAME:EST
DTSTART:20251102T060000
END:STANDARD
BEGIN:DAYLIGHT
TZOFFSETFROM:-0500
TZOFFSETTO:-0400
TZNAME:EDT
DTSTART:20260308T070000
END:DAYLIGHT
BEGIN:STANDARD
TZOFFSETFROM:-0400
TZOFFSETTO:-0500
TZNAME:EST
DTSTART:20261101T060000
END:STANDARD
END:VTIMEZONE
BEGIN:VEVENT
DTSTART;VALUE=DATE:20251116
DTEND;VALUE=DATE:20251120
DTSTAMP:20260419T173411
CREATED:20250801T100052Z
LAST-MODIFIED:20251102T132914Z
UID:8779-1763251200-1763596799@nexbiohealth.org
SUMMARY:Lifestyle Medicine Conference 2025
DESCRIPTION:Exploring the impact of lifestyle medicine in preventing and reversing disease.
URL:https://nexbiohealth.org/event/lifestyle-medicine-conference-2025/
LOCATION:Dallas/Fort Worth\, Dallas\, TX\, United States
END:VEVENT
END:VCALENDAR