BEGIN:VCALENDAR
VERSION:2.0
PRODID:-//NexBioHealth-Shaping Futures - ECPv6.15.20//NONSGML v1.0//EN
CALSCALE:GREGORIAN
METHOD:PUBLISH
X-WR-CALNAME:NexBioHealth-Shaping Futures
X-ORIGINAL-URL:https://nexbiohealth.org
X-WR-CALDESC:Events for NexBioHealth-Shaping Futures
REFRESH-INTERVAL;VALUE=DURATION:PT1H
X-Robots-Tag:noindex
X-PUBLISHED-TTL:PT1H
BEGIN:VTIMEZONE
TZID:America/New_York
BEGIN:DAYLIGHT
TZOFFSETFROM:-0500
TZOFFSETTO:-0400
TZNAME:EDT
DTSTART:20250309T070000
END:DAYLIGHT
BEGIN:STANDARD
TZOFFSETFROM:-0400
TZOFFSETTO:-0500
TZNAME:EST
DTSTART:20251102T060000
END:STANDARD
BEGIN:DAYLIGHT
TZOFFSETFROM:-0500
TZOFFSETTO:-0400
TZNAME:EDT
DTSTART:20260308T070000
END:DAYLIGHT
BEGIN:STANDARD
TZOFFSETFROM:-0400
TZOFFSETTO:-0500
TZNAME:EST
DTSTART:20261101T060000
END:STANDARD
BEGIN:DAYLIGHT
TZOFFSETFROM:-0500
TZOFFSETTO:-0400
TZNAME:EDT
DTSTART:20270314T070000
END:DAYLIGHT
BEGIN:STANDARD
TZOFFSETFROM:-0400
TZOFFSETTO:-0500
TZNAME:EST
DTSTART:20271107T060000
END:STANDARD
END:VTIMEZONE
BEGIN:VEVENT
DTSTART;VALUE=DATE:20260209
DTEND;VALUE=DATE:20260213
DTSTAMP:20260419T132827
CREATED:20251102T132914Z
LAST-MODIFIED:20251102T132914Z
UID:8986-1770595200-1770940799@nexbiohealth.org
SUMMARY:WHX Dubai (formerly Arab Health)
DESCRIPTION:Focus: One of the world’s largest medical exhibitions\, showcasing global healthcare innovations and industry networking.
URL:https://nexbiohealth.org/event/whx-dubai-formerly-arab-health/
LOCATION:Dubai\, Dubai\, United Arab Emirates
END:VEVENT
END:VCALENDAR