BEGIN:VCALENDAR
VERSION:2.0
PRODID:-//NexBioHealth-Shaping Futures - ECPv6.15.20//NONSGML v1.0//EN
CALSCALE:GREGORIAN
METHOD:PUBLISH
X-ORIGINAL-URL:https://nexbiohealth.org
X-WR-CALDESC:Events for NexBioHealth-Shaping Futures
REFRESH-INTERVAL;VALUE=DURATION:PT1H
X-Robots-Tag:noindex
X-PUBLISHED-TTL:PT1H
BEGIN:VTIMEZONE
TZID:America/New_York
BEGIN:DAYLIGHT
TZOFFSETFROM:-0500
TZOFFSETTO:-0400
TZNAME:EDT
DTSTART:20250309T070000
END:DAYLIGHT
BEGIN:STANDARD
TZOFFSETFROM:-0400
TZOFFSETTO:-0500
TZNAME:EST
DTSTART:20251102T060000
END:STANDARD
BEGIN:DAYLIGHT
TZOFFSETFROM:-0500
TZOFFSETTO:-0400
TZNAME:EDT
DTSTART:20260308T070000
END:DAYLIGHT
BEGIN:STANDARD
TZOFFSETFROM:-0400
TZOFFSETTO:-0500
TZNAME:EST
DTSTART:20261101T060000
END:STANDARD
BEGIN:DAYLIGHT
TZOFFSETFROM:-0500
TZOFFSETTO:-0400
TZNAME:EDT
DTSTART:20270314T070000
END:DAYLIGHT
BEGIN:STANDARD
TZOFFSETFROM:-0400
TZOFFSETTO:-0500
TZNAME:EST
DTSTART:20271107T060000
END:STANDARD
END:VTIMEZONE
BEGIN:VEVENT
DTSTART;VALUE=DATE:20260319
DTEND;VALUE=DATE:20260323
DTSTAMP:20260419T145537
CREATED:20260206T134014Z
LAST-MODIFIED:20260206T134014Z
UID:9562-1773878400-1774223999@nexbiohealth.org
SUMMARY:Medical Korea 2026 (KIMES- Korea International Medical & Hosp)
DESCRIPTION:Focus: Korea’s largest healthcare expo\, featuring innovations in medical equipment\, digital health\, and hospital systems.
URL:https://nexbiohealth.org/event/medical-korea-2026-kimes-korea-international-medical-hosp/
LOCATION:Seoul\, Seoul\, Korea\, Republic of
END:VEVENT
END:VCALENDAR